BEGIN:VCALENDAR
VERSION:2.0
PRODID:-//The Graphic Communications Scholarship - ECPv6.15.18//NONSGML v1.0//EN
CALSCALE:GREGORIAN
METHOD:PUBLISH
X-WR-CALNAME:The Graphic Communications Scholarship
X-ORIGINAL-URL:https://gcsfny.org
X-WR-CALDESC:Events for The Graphic Communications Scholarship
REFRESH-INTERVAL;VALUE=DURATION:PT1H
X-Robots-Tag:noindex
X-PUBLISHED-TTL:PT1H
BEGIN:VTIMEZONE
TZID:America/New_York
BEGIN:DAYLIGHT
TZOFFSETFROM:-0500
TZOFFSETTO:-0400
TZNAME:EDT
DTSTART:20240310T070000
END:DAYLIGHT
BEGIN:STANDARD
TZOFFSETFROM:-0400
TZOFFSETTO:-0500
TZNAME:EST
DTSTART:20241103T060000
END:STANDARD
BEGIN:DAYLIGHT
TZOFFSETFROM:-0500
TZOFFSETTO:-0400
TZNAME:EDT
DTSTART:20250309T070000
END:DAYLIGHT
BEGIN:STANDARD
TZOFFSETFROM:-0400
TZOFFSETTO:-0500
TZNAME:EST
DTSTART:20251102T060000
END:STANDARD
BEGIN:DAYLIGHT
TZOFFSETFROM:-0500
TZOFFSETTO:-0400
TZNAME:EDT
DTSTART:20260308T070000
END:DAYLIGHT
BEGIN:STANDARD
TZOFFSETFROM:-0400
TZOFFSETTO:-0500
TZNAME:EST
DTSTART:20261101T060000
END:STANDARD
BEGIN:DAYLIGHT
TZOFFSETFROM:-0500
TZOFFSETTO:-0400
TZNAME:EDT
DTSTART:20270314T070000
END:DAYLIGHT
BEGIN:STANDARD
TZOFFSETFROM:-0400
TZOFFSETTO:-0500
TZNAME:EST
DTSTART:20271107T060000
END:STANDARD
END:VTIMEZONE
BEGIN:VEVENT
DTSTART;TZID=America/New_York:20250515T190000
DTEND;TZID=America/New_York:20250515T204500
DTSTAMP:20260419T235424
CREATED:20250509T161005Z
LAST-MODIFIED:20250509T161005Z
UID:10000010-1747335600-1747341900@gcsfny.org
SUMMARY:Ink on Paper Essentials Adobe for Print Perfection\, Part 2
DESCRIPTION:Join GCSF Trustee and Adobe Certified Instructor and Print Workflow Specialist Amybeth Menendez for the second installment of this powerful print-focused session. Hosted free of charge by the Los Angeles InDesign User Group (LAIDUG)\, this advanced training dives even deeper into Adobe’s print production tools across InDesign\, Photoshop\, Illustrator\, and Acrobat\, helping you master essential prepress and color workflows to ensure print perfection – every time. \nThe session picks up where Part 1 left off as Amybeth continues to explore the intricacies of ink on paper workflows with real-world examples and time-saving techniques. (A detailed description of the program is available here.) Attendees are eligible to participate in a prize drawing. \nWith over 25 years of experience in the printing and publishing industry\, Amybeth holds multiple industry certifications including Adobe Certified Instructor\, Adobe Community Expert\, IDEAlliance Certified Color Management Print Master\, and G7 Expert. She also mentors the next generation of graphic arts professionals through her work with GCSF and the Advertising Production Club of New York (APC-NYC).
URL:https://gcsfny.org/calendar-event/ink-on-paper-essentials-adobe-for-print-perfection-part-2/
LOCATION:online
CATEGORIES:Training/Education/Mentoring
ATTACH;FMTTYPE=image/jpeg:https://gcsfny.org/wp-content/uploads/2025/05/laidug_051525.jpg
END:VEVENT
BEGIN:VEVENT
DTSTART;TZID=America/New_York:20251001T183000
DTEND;TZID=America/New_York:20251001T200000
DTSTAMP:20260419T235424
CREATED:20250913T193702Z
LAST-MODIFIED:20250913T193702Z
UID:10000011-1759343400-1759348800@gcsfny.org
SUMMARY:WHAT HAVE YOU BEEN UP TO THIS SUMMER?
DESCRIPTION:LOCATION: Virtual \nSIGN UP HERE to attend or to participate in the Student Showcase! \nThe Graphic Communications Scholarship Foundation (GCSF) is excited to invite you to our 2025–2026 Educational Season Kick-Off event! The event features: \n• A special demo from GCSF Trustee Amybeth Menendez showcasing new productivity tools released this summer\, plus in-application automation techniques with scripting and chat agents \n• A student showcase where you can present something you’ve been working on this summer—school projects\, personal creative work\, or anything you’re proud of (3–5 minutes each) \n• A special prize drawing: students who present will be entered to win a Full Virtual Pass to the InDesign + CreativePro Summit (December 2025) courtesy of CreativePro Network and Amybeth Menendez \nDon’t miss this chance to: \n✔️ Learn real-world tools from an industry leader \n✔️ Share your work with peers and mentors \n✔️ Enter to win a CreativePro Indesign Summit Virtual Pass \nWe can’t wait to see what you’ve been up to this summer! \n 
URL:https://gcsfny.org/calendar-event/what-have-you-been-up-to-this-summer/
LOCATION:online
ATTACH;FMTTYPE=image/gif:https://gcsfny.org/wp-content/uploads/2025/09/what_have_you_been_up_to_this_summer.gif
END:VEVENT
BEGIN:VEVENT
DTSTART;TZID=America/New_York:20260430T180000
DTEND;TZID=America/New_York:20260430T193000
DTSTAMP:20260419T235424
CREATED:20260412T215725Z
LAST-MODIFIED:20260413T205703Z
UID:10000012-1777572000-1777577400@gcsfny.org
SUMMARY:Back to the Basics: Adobe Foundations Through a Modern Lens
DESCRIPTION:Back to basics — but through the lens of today’s workflows. We revisit core Adobe foundations like color correction\, neutral balancing\, and color management with a modern\, production-driven approach. We’ll break down what still matters\, what’s evolved\, and how to apply these principles across real-world print and digital environments. \nFrom there\, we layer in today’s tools — exploring AI upscaling for production\, intelligent image adjustments\, and how to integrate AI into professional design pipelines without sacrificing quality or control. \nWe’ll wrap with a sneak peek at the latest Adobe features so you can see where things are heading next. \n\nAdobe environment setup across InDesign\, Photoshop & Illustrator\nColor management\, neutral balancing & color modes\nMasking best practices & non-destructive editing\nAI integration in professional production pipelines\nExporting print-ready files with confidence\nSneak peek: what’s next in Adobe\n\nAmybeth is an Accredited Adobe Certified Instructor and an Adobe Community Expert. Registration is free. Reserve your spot today! \n 
URL:https://gcsfny.org/calendar-event/back-to-the-basics-adobe-foundations-through-a-modern-lens/
LOCATION:online
ATTACH;FMTTYPE=image/jpeg:https://gcsfny.org/wp-content/uploads/2026/04/back_to_the_basics_resize.jpeg
END:VEVENT
END:VCALENDAR